BEGIN:VCALENDAR
VERSION:2.0
PRODID:-//Songbirds Choir Staging - ECPv6.2.9//NONSGML v1.0//EN
CALSCALE:GREGORIAN
METHOD:PUBLISH
X-ORIGINAL-URL:https://staging.songbirdschoir.co.uk
X-WR-CALDESC:Events for Songbirds Choir Staging
REFRESH-INTERVAL;VALUE=DURATION:PT1H
X-Robots-Tag:noindex
X-PUBLISHED-TTL:PT1H
BEGIN:VTIMEZONE
TZID:Europe/London
BEGIN:DAYLIGHT
TZOFFSETFROM:+0000
TZOFFSETTO:+0100
TZNAME:BST
DTSTART:20240331T010000
END:DAYLIGHT
BEGIN:STANDARD
TZOFFSETFROM:+0100
TZOFFSETTO:+0000
TZNAME:GMT
DTSTART:20241027T010000
END:STANDARD
END:VTIMEZONE
BEGIN:VEVENT
DTSTART;TZID=Europe/London:20240429T200000
DTEND;TZID=Europe/London:20240429T213000
DTSTAMP:20260421T061856
CREATED:20240113T153510Z
LAST-MODIFIED:20240113T153510Z
UID:1491-1714420800-1714426200@staging.songbirdschoir.co.uk
SUMMARY:Rehearsal
DESCRIPTION:
URL:https://staging.songbirdschoir.co.uk/event/rehearsal-4-2-2/
LOCATION:St Mary’s Church\, Wakehurst Drive\, Crawley\, RH10 6EH
CATEGORIES:Rehearsals
END:VEVENT
BEGIN:VEVENT
DTSTART;TZID=Europe/London:20240513T200000
DTEND;TZID=Europe/London:20240513T213000
DTSTAMP:20260421T061856
CREATED:20240113T153527Z
LAST-MODIFIED:20240113T153527Z
UID:1494-1715630400-1715635800@staging.songbirdschoir.co.uk
SUMMARY:Rehearsal
DESCRIPTION:
URL:https://staging.songbirdschoir.co.uk/event/rehearsal-4-2-2-2/
LOCATION:St Mary’s Church\, Wakehurst Drive\, Crawley\, RH10 6EH
CATEGORIES:Rehearsals
END:VEVENT
BEGIN:VEVENT
DTSTART;TZID=Europe/London:20240520T200000
DTEND;TZID=Europe/London:20240520T213000
DTSTAMP:20260421T061856
CREATED:20240113T153542Z
LAST-MODIFIED:20240113T153542Z
UID:1497-1716235200-1716240600@staging.songbirdschoir.co.uk
SUMMARY:Rehearsal
DESCRIPTION:
URL:https://staging.songbirdschoir.co.uk/event/rehearsal-4-2-2-2-2/
LOCATION:St Mary’s Church\, Wakehurst Drive\, Crawley\, RH10 6EH
CATEGORIES:Rehearsals
END:VEVENT
BEGIN:VEVENT
DTSTART;TZID=Europe/London:20240603T200000
DTEND;TZID=Europe/London:20240603T213000
DTSTAMP:20260421T061856
CREATED:20240113T153557Z
LAST-MODIFIED:20240113T153557Z
UID:1500-1717444800-1717450200@staging.songbirdschoir.co.uk
SUMMARY:Rehearsal
DESCRIPTION:
URL:https://staging.songbirdschoir.co.uk/event/rehearsal-4-2-2-2-2-2/
LOCATION:St Mary’s Church\, Wakehurst Drive\, Crawley\, RH10 6EH
CATEGORIES:Rehearsals
END:VEVENT
BEGIN:VEVENT
DTSTART;TZID=Europe/London:20240610T200000
DTEND;TZID=Europe/London:20240610T213000
DTSTAMP:20260421T061856
CREATED:20240113T153612Z
LAST-MODIFIED:20240113T153612Z
UID:1503-1718049600-1718055000@staging.songbirdschoir.co.uk
SUMMARY:Rehearsal
DESCRIPTION:
URL:https://staging.songbirdschoir.co.uk/event/rehearsal-4-2-2-2-2-2-2/
LOCATION:St Mary’s Church\, Wakehurst Drive\, Crawley\, RH10 6EH
CATEGORIES:Rehearsals
END:VEVENT
BEGIN:VEVENT
DTSTART;TZID=Europe/London:20240617T200000
DTEND;TZID=Europe/London:20240617T213000
DTSTAMP:20260421T061856
CREATED:20240113T153628Z
LAST-MODIFIED:20240113T153628Z
UID:1506-1718654400-1718659800@staging.songbirdschoir.co.uk
SUMMARY:Rehearsal
DESCRIPTION:
URL:https://staging.songbirdschoir.co.uk/event/rehearsal-4-2-2-2-2-2-2-2/
LOCATION:St Mary’s Church\, Wakehurst Drive\, Crawley\, RH10 6EH
CATEGORIES:Rehearsals
END:VEVENT
BEGIN:VEVENT
DTSTART;TZID=Europe/London:20240624T200000
DTEND;TZID=Europe/London:20240624T213000
DTSTAMP:20260421T061856
CREATED:20240113T153644Z
LAST-MODIFIED:20240113T153644Z
UID:1509-1719259200-1719264600@staging.songbirdschoir.co.uk
SUMMARY:Rehearsal
DESCRIPTION:
URL:https://staging.songbirdschoir.co.uk/event/rehearsal-4-2-2-2-2-2-2-2-2/
LOCATION:St Mary’s Church\, Wakehurst Drive\, Crawley\, RH10 6EH
CATEGORIES:Rehearsals
END:VEVENT
BEGIN:VEVENT
DTSTART;TZID=Europe/London:20240701T200000
DTEND;TZID=Europe/London:20240701T213000
DTSTAMP:20260421T061856
CREATED:20240113T153738Z
LAST-MODIFIED:20240113T153738Z
UID:1512-1719864000-1719869400@staging.songbirdschoir.co.uk
SUMMARY:Rehearsal
DESCRIPTION:
URL:https://staging.songbirdschoir.co.uk/event/rehearsal-4-2-2-2-2-2-2-2-2-2/
LOCATION:St Mary’s Church\, Wakehurst Drive\, Crawley\, RH10 6EH
CATEGORIES:Rehearsals
END:VEVENT
BEGIN:VEVENT
DTSTART;TZID=Europe/London:20240708T200000
DTEND;TZID=Europe/London:20240708T213000
DTSTAMP:20260421T061856
CREATED:20240113T153757Z
LAST-MODIFIED:20240113T153757Z
UID:1515-1720468800-1720474200@staging.songbirdschoir.co.uk
SUMMARY:Rehearsal
DESCRIPTION:
URL:https://staging.songbirdschoir.co.uk/event/rehearsal-4-2-2-2-2-2-2-2-2-2-2/
LOCATION:St Mary’s Church\, Wakehurst Drive\, Crawley\, RH10 6EH
CATEGORIES:Rehearsals
END:VEVENT
BEGIN:VEVENT
DTSTART;TZID=Europe/London:20240715T200000
DTEND;TZID=Europe/London:20240715T213000
DTSTAMP:20260421T061856
CREATED:20240113T153831Z
LAST-MODIFIED:20240113T153831Z
UID:1518-1721073600-1721079000@staging.songbirdschoir.co.uk
SUMMARY:Rehearsal/end of term social
DESCRIPTION:
URL:https://staging.songbirdschoir.co.uk/event/rehearsal-4-2-2-2-2-2-2-2-2-2-2-2/
LOCATION:St Mary’s Church\, Wakehurst Drive\, Crawley\, RH10 6EH
CATEGORIES:Rehearsals
END:VEVENT
BEGIN:VEVENT
DTSTART;TZID=Europe/London:20240909T200000
DTEND;TZID=Europe/London:20240909T213000
DTSTAMP:20260421T061856
CREATED:20240113T154112Z
LAST-MODIFIED:20240113T154112Z
UID:1524-1725912000-1725917400@staging.songbirdschoir.co.uk
SUMMARY:Rehearsal
DESCRIPTION:
URL:https://staging.songbirdschoir.co.uk/event/rehearsal-5/
LOCATION:St Mary’s Church\, Wakehurst Drive\, Crawley\, RH10 6EH
CATEGORIES:Rehearsals
END:VEVENT
END:VCALENDAR